BEGIN:VCALENDAR
VERSION:2.0
PRODID:-//wp-events-plugin.com//7.2.3//EN
TZID:Europe/Rome
X-WR-TIMEZONE:Europe/Rome
BEGIN:VEVENT
UID:75@istitutospiov.it
DTSTART;TZID=Europe/Rome:20260128T160000
DTEND;TZID=Europe/Rome:20260128T160000
DTSTAMP:20260119T132718Z
URL:https://www.istitutospiov.it/events/lafrica-e-il-suo-futuro/
SUMMARY:L’Africa e il suo futuro
DESCRIPTION:Il 28 gennaio alle ore 16 in Aula degli organi collegiali del P
 alazzo del Rettorato in Sapienza università di Roma si terrà il convegno
  L’Africa e il suo futuro con il presidente di Fondazione Roma Sapienza\
 , Eugenio Gaudio\, il consigliere dell’Istituto Gianluigi Rossi\, il geo
 grafo Franco Salvatori\, l’economista Donatella Strangio\, il coordinato
 re di Osmed Francesco Anghelone e il presidente dell’Istituto di Studi P
 oltici “S. Pio V” Paolo De Nardis.
ATTACH;FMTTYPE=image/jpeg:https://www.istitutospiov.it/wp-content/uploads/
 2026/01/africa-e-il-suo-futuro.jpg
CATEGORIES:Convegni
LOCATION:Palazzo del Rettorato\, Piazzale Aldo Moro 5\, Roma\, Italia
X-APPLE-STRUCTURED-LOCATION;VALUE=URI;X-ADDRESS=Piazzale Aldo Moro 5\, Roma
 \, Italia;X-APPLE-RADIUS=100;X-TITLE=Palazzo del Rettorato:geo:0,0
END:VEVENT
BEGIN:VTIMEZONE
TZID:Europe/Rome
X-LIC-LOCATION:Europe/Rome
BEGIN:STANDARD
DTSTART:20251026T020000
TZOFFSETFROM:+0200
TZOFFSETTO:+0100
TZNAME:CET
END:STANDARD
END:VTIMEZONE
END:VCALENDAR