BEGIN:VCALENDAR
VERSION:2.0
PRODID:-//wp-events-plugin.com//7.2.3//EN
TZID:Europe/Rome
X-WR-TIMEZONE:Europe/Rome
BEGIN:VEVENT
UID:73@istitutospiov.it
DTSTART;TZID=Europe/Rome:20260120T210000
DTEND;TZID=Europe/Rome:20260120T210000
DTSTAMP:20260119T132047Z
URL:https://www.istitutospiov.it/events/voci-nel-silenzio-storie-che-risuo
 nano/
SUMMARY:Voci nel silenzio: storie che risuonano
DESCRIPTION:Il 20 gennaio alle ore 21 presso il Teatro Golden di via Tarant
 o a Roma si terrà l’evento teatrale e musicale Voci nel silenzio: stori
 e che risuonano\, con Grazia Di Michele\, Alessandra Fallucchi\, Eugenio B
 ennato e Laura Guercio\, segretaria generale di UNETCHAC\, la rete accadem
 ica Universities Network for Children in Armed Conflicts di cui l’Istitu
 to di Studi Politici “S. Pio V” è fondatore e collaboratore nell’am
 bito dell’attuazione dell’Agenda Donne\, Pace e Sicurezza sancita dal 
 Consiglio di Sicurezza delle Nazioni Unite.
ATTACH;FMTTYPE=image/jpeg:https://www.istitutospiov.it/wp-content/uploads/
 2026/01/voci-che-risuonano.jpeg
CATEGORIES:Altro
LOCATION:Teatro Golden\, Via Taranto 36\, Roma\, Italia
X-APPLE-STRUCTURED-LOCATION;VALUE=URI;X-ADDRESS=Via Taranto 36\, Roma\, Ita
 lia;X-APPLE-RADIUS=100;X-TITLE=Teatro Golden:geo:0,0
END:VEVENT
BEGIN:VTIMEZONE
TZID:Europe/Rome
X-LIC-LOCATION:Europe/Rome
BEGIN:STANDARD
DTSTART:20251026T020000
TZOFFSETFROM:+0200
TZOFFSETTO:+0100
TZNAME:CET
END:STANDARD
END:VTIMEZONE
END:VCALENDAR